BEGIN:VCALENDAR
VERSION:2.0
PRODID:-//wp-events-plugin.com//7.2.3.1//EN
TZID:America/Phoenix
X-WR-TIMEZONE:America/Phoenix
BEGIN:VEVENT
UID:218@weldlikeagirl.us
DTSTART:20191220T160000Z
DTEND:20191220T200000Z
DTSTAMP:20191218T002721Z
URL:https://weldlikeagirl.us/events/whimsical-snowman-snowwoman/
SUMMARY:Whimsical Snowman/Snowwoman
DESCRIPTION:Build a desert snowman (or snowwoman or snowkid) from upcycled 
 automotive parts. Don't forget the top hat! Metal or fabric scarf accessor
 y also available.\n\n\n 	ALL classes begin with safety! Participants will 
 be taught about welding safety\, plasma cutting and GMAW (MIG welding). De
 monstrations and practice time are provided. \n 	We provide a small group 
 setting of usually no more than 12 people so that everyone can get the ind
 ividual instruction and attention they need.\n 	This class is co-ed.\n 	We
  provide all safety gear including safety glasses\, welding jackets\, glov
 es and welding helmets.\n\n 	FYI: if you already have your own safety glas
 ses that fit you perfectly\, you are welcome to bring them. Otherwise\, we
  provide standard ANSI-approved safety glasses that are yours to take home
 .\n\n\n 	Children are permitted to register\; so far\, we have taught kids
  as young as 6 years old but only you know how mature your child is. (If y
 ou have a mature child under the age of 7\, please contact us so we can di
 scuss the possibility of participation.) Children under the age of 14 are 
 asked to register and participate with an adult.\n 	WHAT TO WEAR: jeans\, 
 cotton t-shirt and closed-toe shoes (leather shoes or boots preferred\; te
 nnis shoes are OK\; no sandals)\; please ensure ankles and feet are comple
 tely covered (no shorts or capris). T-shirts or tank tops are fine as you 
 will be wearing a welding jacket on top.\n 	Water\, tea and light refreshm
 ents will be provided.\n\nPlease call\, e-mail or message us on Facebook\,
  Twitter or Instagram if you are military or a 1st responder and wish to r
 eceive the discount code.\n\nCost: $48.00 (includes class materials\, safe
 ty gear\, use of cutting &amp\; welding equipment)
LOCATION:(old location) Weld Like A Girl\, 1415 S 3rd Ave\, Yuma\, AZ\, 853
 64\, United States
GEO:32.701865;-114.623303
X-APPLE-STRUCTURED-LOCATION;VALUE=URI;X-ADDRESS=1415 S 3rd Ave\, Yuma\, AZ\
 , 85364\, United States;X-APPLE-RADIUS=100;X-TITLE=(old location) Weld Lik
 e A Girl:geo:32.701865,-114.623303
END:VEVENT
END:VCALENDAR