BEGIN:VCALENDAR
VERSION:2.0
PRODID:-//wp-events-plugin.com//7.2.3.1//EN
TZID:America/Phoenix
X-WR-TIMEZONE:America/Phoenix
BEGIN:VEVENT
UID:393@weldlikeagirl.us
DTSTART;TZID=America/Phoenix:20211229T080000
DTEND;TZID=America/Phoenix:20211230T120000
DTSTAMP:20211221T223750Z
URL:https://weldlikeagirl.us/events/kids-camp-burrito-plate-specialages-12
 -17/
SUMMARY:KIDS' CAMP: Burrito Plate Special (AGES 11-17)
DESCRIPTION:\nLearn mad introductory fabrication skills while building your
  own (removable) burrito on a plate\, complete with side salad and nachos.
  This is a two-day welding/ manufacturing camp.\n\nBurrito builders will u
 se (at least) the following tools:\n\n 	GMAW (Gas Metal Arc Welding\, aka 
 MIG welding\, aka wire welding)\n 	PAC (Plasma Arc Cutting\, aka light sab
 er)\n 	Oxy-acetylene torch with rosebud (for heating/bending)\n 	metal she
 ar\n 	14" chop saw\n 	4.5" variable speed angle grinder\n 	other tools as 
 needed\n\nOVERVIEW\n\n 	ALL classes begin with safety! Participants will b
 e taught to use all tools. Demonstrations and practice time are provided. 
 \n 	We normally provide a small group setting of usually no more than 10 p
 eople so that everyone can get the individual instruction and attention th
 ey need.\n 	We provide all safety gear including safety glasses\, welding 
 jackets\, gloves and welding helmets.\n\n 	FYI: if you already have your o
 wn safety glasses that fit you perfectly\, you are welcome to bring them. 
 Otherwise\, we provide standard ANSI-approved safety glasses that are your
 s to take home.\n\n\n 	This class is co-ed.\n 	Kids from ages 12-17  are 
 welcome to register. Written parental consent is required so please be sur
 e to sign our waiver when dropping off your child. (Mature 10 &amp\; 11 ye
 ar olds are permitted with prior permission… please contact us for detai
 ls.)\n 	WHAT TO WEAR: jeans\, cotton t-shirt and closed-toe shoes (leather
  shoes or boots preferred\; tennis shoes are OK\; no sandals)\; please ens
 ure ankles and feet are completely covered. T-shirts or tank tops are fine
  as you will be wearing a welding jacket on top.\n 	Water\, tea and light 
 refreshments will be provided both days. Naturally\, a delicious burrito l
 unch will be provided on DAY 2 to celebrate our accomplishments.\n\nPlease
  call\, e-mail or message us on Facebook\, Twitter or Instagram if you are
  military or a 1st responder family and wish to receive the discount code.
 \n\n&nbsp\;
LOCATION:(old location) Weld Like A Girl\, 1415 S 3rd Ave\, Yuma\, AZ\, 853
 64\, United States
GEO:32.701865;-114.623303
X-APPLE-STRUCTURED-LOCATION;VALUE=URI;X-ADDRESS=1415 S 3rd Ave\, Yuma\, AZ\
 , 85364\, United States;X-APPLE-RADIUS=100;X-TITLE=(old location) Weld Lik
 e A Girl:geo:32.701865,-114.623303
END:VEVENT
BEGIN:VTIMEZONE
TZID:America/Phoenix
X-LIC-LOCATION:America/Phoenix
BEGIN:STANDARD
DTSTART:20201229T080000
TZOFFSETFROM:-0700
TZOFFSETTO:-0700
TZNAME:MST
END:STANDARD
END:VTIMEZONE
END:VCALENDAR