BEGIN:VCALENDAR
VERSION:2.0
PRODID:-//wp-events-plugin.com//7.2.3.1//EN
TZID:America/Phoenix
X-WR-TIMEZONE:America/Phoenix
BEGIN:VEVENT
UID:550@weldlikeagirl.us
DTSTART;TZID=America/Phoenix:20240425T113000
DTEND;TZID=America/Phoenix:20240425T160000
DTSTAMP:20240423T194330Z
URL:https://weldlikeagirl.us/events/cobot-demos-hand-held-welding-simulato
 rs-cwi-discussion-pizza-tacos/
SUMMARY:FREE EVENT: Cobot Demos\, Hand-held Welding Simulators\, CWI Discus
 sion (PIZZA & TACOS)
DESCRIPTION:Stop in at key points throughout the day to see cobots\, hand-h
 eld virtual welders and learn more about exciting technological opportunit
 ies in welding! Free event with food!
LOCATION:Weld Like A Girl™️ (main location)\, 1350 S 3rd Ave\, Yuma\, A
 Z\, 85364\, Yuma County\, United States
GEO:32.703111;-114.623538
X-APPLE-STRUCTURED-LOCATION;VALUE=URI;X-ADDRESS=1350 S 3rd Ave\, Yuma\, AZ\
 , 85364\, Yuma County\, United States;X-APPLE-RADIUS=100;X-TITLE=Weld Like
  A Girl™️ (main location):geo:32.703111,-114.623538
END:VEVENT
BEGIN:VTIMEZONE
TZID:America/Phoenix
X-LIC-LOCATION:America/Phoenix
BEGIN:STANDARD
DTSTART:20230426T113000
TZOFFSETFROM:-0700
TZOFFSETTO:-0700
TZNAME:MST
END:STANDARD
END:VTIMEZONE
END:VCALENDAR